BEGIN:VCALENDAR
VERSION:2.0
PRODID:-//DEMENTIA RESEARCHER - ECPv6.14.0//NONSGML v1.0//EN
CALSCALE:GREGORIAN
METHOD:PUBLISH
X-WR-CALNAME:DEMENTIA RESEARCHER
X-ORIGINAL-URL:https://www.dementiaresearcher.nihr.ac.uk
X-WR-CALDESC:Events for DEMENTIA RESEARCHER
REFRESH-INTERVAL;VALUE=DURATION:PT1H
X-Robots-Tag:noindex
X-PUBLISHED-TTL:PT1H
BEGIN:VTIMEZONE
TZID:Europe/London
BEGIN:DAYLIGHT
TZOFFSETFROM:+0000
TZOFFSETTO:+0100
TZNAME:BST
DTSTART:20250330T010000
END:DAYLIGHT
BEGIN:STANDARD
TZOFFSETFROM:+0100
TZOFFSETTO:+0000
TZNAME:GMT
DTSTART:20251026T010000
END:STANDARD
END:VTIMEZONE
BEGIN:VEVENT
DTSTART;VALUE=DATE:20251027
DTEND;VALUE=DATE:20251030
DTSTAMP:20260421T021824
CREATED:20250622T144533Z
LAST-MODIFIED:20250623T102031Z
UID:10001458-1761523200-1761782399@www.dementiaresearcher.nihr.ac.uk
SUMMARY:Evidence & Implementation Summit 2025
DESCRIPTION:A leading biennial event at the nexus of research\, policy and practice\, the Evidence and Implementation Summit (EIS) seeks to improve lives globally. In 2025\, EIS joins forces with the Implementation Science Health Conference Australia (ISHCA) to present\, for the first time\, a combined global program.  \nThe Summit brings together policymakers\, researchers\, implementation scientists\, program evaluators\, practitioners\, academics\, organisation leaders and funders\, to examine the synthesis\, evaluation\, generation\, translation\, and implementation of research evidence into policy and practice.  \nAt EIS\, we bridge the gap between what we know and what we do.​ \nWith inequity and misinformation growing worldwide\, closing the ‘know-do’ gap has never been more important or urgent.Your Summit co-hosts in 2025 are the Centre for Evidence and Implementation (CEI) and the Implementation Science Health Conference Australia (ISHCA). \n\n\n\n\nRegister to Attend
URL:https://www.dementiaresearcher.nihr.ac.uk/event/evidence-implementation-summit-2025/
LOCATION:Melbourne Convention and Exhibition Centre\, 1 Convention Centre Pl\, South Wharf\, Melbourne\, Victoria\, VIC 3006\, Australia
CATEGORIES:Conference
ATTACH;FMTTYPE=image/png:https://www.dementiaresearcher.nihr.ac.uk/wp-content/uploads/2024/08/Centre-for-Evidence-Implementation-Logo.png
ORGANIZER;CN="Abercrombie Management":MAILTO:eis@abercrombiemanagement.com.au
GEO:-37.825203;144.952251
X-APPLE-STRUCTURED-LOCATION;VALUE=URI;X-ADDRESS=Melbourne Convention and Exhibition Centre 1 Convention Centre Pl South Wharf Melbourne Victoria VIC 3006 Australia;X-APPLE-RADIUS=500;X-TITLE=1 Convention Centre Pl\, South Wharf:geo:144.952251,-37.825203
END:VEVENT
BEGIN:VEVENT
DTSTART;TZID=Europe/London:20251028T120000
DTEND;TZID=Europe/London:20251028T130000
DTSTAMP:20260421T021824
CREATED:20251023T190013Z
LAST-MODIFIED:20251023T192808Z
UID:10001962-1761652800-1761656400@www.dementiaresearcher.nihr.ac.uk
SUMMARY:Innovating with Alzheimer’s Society
DESCRIPTION:Alzheimer’s Society supports and invests in innovative solutions to address the challenges people affected by dementia face today. \nJoin this livestream to hear from Dr Ella Moonan-Howard about the Alzheimer’s Society Launchpad Programme a part-time\, fully funded\, six-month incubator programme that helps passionate people to de-risk\, validate and pitch their dementia innovation product ideas. \nSet a Reminder on YouTube
URL:https://www.dementiaresearcher.nihr.ac.uk/event/innovating-with-alzheimers-society-2/
LOCATION:YouTube
CATEGORIES:Showcase
ATTACH;FMTTYPE=image/png:https://www.dementiaresearcher.nihr.ac.uk/wp-content/uploads/2025/10/Innovating-with-Alzheimers-Society-280-x-280-px.png
END:VEVENT
END:VCALENDAR