BEGIN:VCALENDAR
VERSION:2.0
PRODID:-//DEMENTIA RESEARCHER - ECPv6.14.0//NONSGML v1.0//EN
CALSCALE:GREGORIAN
METHOD:PUBLISH
X-WR-CALNAME:DEMENTIA RESEARCHER
X-ORIGINAL-URL:https://www.dementiaresearcher.nihr.ac.uk
X-WR-CALDESC:Events for DEMENTIA RESEARCHER
REFRESH-INTERVAL;VALUE=DURATION:PT1H
X-Robots-Tag:noindex
X-PUBLISHED-TTL:PT1H
BEGIN:VTIMEZONE
TZID:Europe/London
BEGIN:DAYLIGHT
TZOFFSETFROM:+0000
TZOFFSETTO:+0100
TZNAME:BST
DTSTART:20260329T010000
END:DAYLIGHT
BEGIN:STANDARD
TZOFFSETFROM:+0100
TZOFFSETTO:+0000
TZNAME:GMT
DTSTART:20261025T010000
END:STANDARD
END:VTIMEZONE
BEGIN:VEVENT
DTSTART;VALUE=DATE:20260621
DTEND;VALUE=DATE:20260624
DTSTAMP:20260424T172157
CREATED:20250918T092850Z
LAST-MODIFIED:20250918T092850Z
UID:10001928-1782000000-1782259199@www.dementiaresearcher.nihr.ac.uk
SUMMARY:Cell Symposia: Multifaceted mitochondria
DESCRIPTION:Mitochondria are metabolic and signaling hubs involved in multi-system processes spanning from cellular bioenergetics to organismal homeostasis. Their multifaceted functions put them at the center of research efforts to better understand cellular metabolism and communication and to develop novel therapeutic approaches for a broad range of processes including cardiometabolic disorders\, immune responses\, aging\, and cancer. \n\n\nThis symposium aims to reflect the variety in mitochondrial research\, providing engaging and forward-looking talks on mitochondrial bioenergetics and dynamics\, their mechanisms of homeostasis and stress signaling\, their function in intra- and inter-cellular communication\, and their role in metabolism\, disease\, and therapy. \nWe hope to bring together scientists working on these diverse topics to address the open questions of the field and advance the study of mitochondrial biology. \nThemes: \n\nMitochondrial biochemistry and bioenergetics\nMitochondria homeostasis and stress response\nMitochondrial dynamics and transfer\nMitochondrial communication\nMitochondria in metabolism\nMitochondria in inflammation and disease\n\nRegister\n\nAbstract submission deadline: February 13\, 2026 \nSubmit abstract here
URL:https://www.dementiaresearcher.nihr.ac.uk/event/cell-symposia-multifaceted-mitochondria/
LOCATION:Hilton Glasgow\, William Street\, Glasgow\, Glasgow City\, G3 8HT\, United Kingdom
CATEGORIES:Symposium
ATTACH;FMTTYPE=image/png:https://www.dementiaresearcher.nihr.ac.uk/wp-content/uploads/2025/09/Cell-Symposia-Event-2026.png
GEO:55.8614024;-4.2686546
X-APPLE-STRUCTURED-LOCATION;VALUE=URI;X-ADDRESS=Hilton Glasgow William Street Glasgow Glasgow City G3 8HT United Kingdom;X-APPLE-RADIUS=500;X-TITLE=William Street:geo:-4.2686546,55.8614024
END:VEVENT
END:VCALENDAR