BEGIN:VCALENDAR
VERSION:2.0
PRODID:-//DEMENTIA RESEARCHER - ECPv6.14.0//NONSGML v1.0//EN
CALSCALE:GREGORIAN
METHOD:PUBLISH
X-WR-CALNAME:DEMENTIA RESEARCHER
X-ORIGINAL-URL:https://www.dementiaresearcher.nihr.ac.uk
X-WR-CALDESC:Events for DEMENTIA RESEARCHER
REFRESH-INTERVAL;VALUE=DURATION:PT1H
X-Robots-Tag:noindex
X-PUBLISHED-TTL:PT1H
BEGIN:VTIMEZONE
TZID:Europe/London
BEGIN:DAYLIGHT
TZOFFSETFROM:+0000
TZOFFSETTO:+0100
TZNAME:BST
DTSTART:20260329T010000
END:DAYLIGHT
BEGIN:STANDARD
TZOFFSETFROM:+0100
TZOFFSETTO:+0000
TZNAME:GMT
DTSTART:20261025T010000
END:STANDARD
END:VTIMEZONE
BEGIN:VEVENT
DTSTART;VALUE=DATE:20260423
DTEND;VALUE=DATE:20260424
DTSTAMP:20260420T123838
CREATED:20260203T162016Z
LAST-MODIFIED:20260203T162016Z
UID:10002082-1776902400-1776988799@www.dementiaresearcher.nihr.ac.uk
SUMMARY:Vivensa Foundation Annual Symposium
DESCRIPTION:The Vivensa Foundation Annual Symposium will be taking place on 23rd April 2026 at the IET\, 2 Savoy Place London. Further details can be found below and registration is via Eventbrite. \nThe event is free to attend. To register\, the deadline is Monday\, 6th April 2026. As part of the registration process\, we are offering attendees the opportunity to nominate themselves for a poster presentation. We’ll be reviewing and selecting titles/abstracts to ensure a diverse range of topic areas\, career stages and presenters are represented. \nThe deadline to submit a title and abstract for a poster is 20th March 2026. \nGiven the limited space available for posters\, priority will be given to those from projects funded by the Vivensa Foundation. We will notify all applicants in advance to confirm whether their poster has been selected for presentation at the event. \nDeadlines: \nPoster Submission Deadline: 20th March 2026\nEvent Registration Deadline: 6th April 2026 \nWe plan to make recordings of the event available on our website for those unable to attend. \nIf you have any questions or need further information\, please don’t hesitate to contact us at admin@vivensafoundation.org.uk. \n**We will also aim to cover the costs of travel to the event for early career researchers\, where there is no other means to claim these back. Priority of any available funds will be given to Vivensa Foundation-funded ECRs and/or those selected to present at the event – attendees intending to claim travel costs should confirm these with the Foundation prior to booking travel. If you have any questions about this\, or the event in general\, please email admin@vivensafoundation.org.uk
URL:https://www.dementiaresearcher.nihr.ac.uk/event/vivensa-foundation-annual-symposium/
LOCATION:IET\, 2 Savoy Place\, London\, WC2R 0B\, United Kingdom
CATEGORIES:Symposium
ATTACH;FMTTYPE=image/png:https://www.dementiaresearcher.nihr.ac.uk/wp-content/uploads/2026/01/Vivensa-Foundation.png
GEO:51.5100099;-0.1192623
X-APPLE-STRUCTURED-LOCATION;VALUE=URI;X-ADDRESS=IET 2 Savoy Place London WC2R 0B United Kingdom;X-APPLE-RADIUS=500;X-TITLE=2 Savoy Place:geo:-0.1192623,51.5100099
END:VEVENT
BEGIN:VEVENT
DTSTART;TZID=Europe/London:20260423T100000
DTEND;TZID=Europe/London:20260423T163000
DTSTAMP:20260420T123838
CREATED:20260220T150019Z
LAST-MODIFIED:20260218T115311Z
UID:10002115-1776938400-1776961800@www.dementiaresearcher.nihr.ac.uk
SUMMARY:Vivensa Foundation 2026 Annual Symposium
DESCRIPTION:Join The Vivensa Foundation to hear about the fantastic initiatives we have been supporting and meet our 2026 Excellence Award winners. \n\n\n\n\nJoin us in-person 10.00-16.30 on Thursday 23rd April 2026 at the the IET in London for our annual symposium.\nOur theme this year is “evidence into practice” and we will also be announcing the winners of this year’s Vivensa Academy Excellence Awards. \nThe event is free to attend**. To register\, the deadline is Monday 6th April 2026. As part of the registration process\, we are offering attendees the opportunity to nominate themselves for a poster presentation and/or a speaking slot in the ‘5-minute research showcase’ section of the agenda. We’ll be reviewing and selecting titles/abstracts to ensure a diverse range of topic areas\, career stages and presenters are represented. The deadline to submit a title and abstract for a poster is 20th March 2026. Given the limited space available for speaking/posters slots\, priority will be given to those from projects funded by the Vivensa Foundation. We will notify all attendees in advance to confirm whether their abstract has been selected for a poster or talk. \nDeadlines: \nTitle/Abstract Submission Deadline: 20th March 2026\nEvent Registration Deadline: 6th April 2026 \nIf you have any questions or need further information\, please don’t hesitate to contact us at admin@vivensafoundation.org.uk \n**We will also aim to cover the costs of travel to the event for early career researchers (ECRs)\, where there is no other means to claim these back. Priority of any available funds will be given to Vivensa Foundation-funded ECRs and/or those selected to present at the event – attendees intending to claim travel costs should confirm these with the Foundation prior to booking travel. If you have any questions about this\, or the event in general\, please email admin@vivensafoundation.org.uk \n\nRegister
URL:https://www.dementiaresearcher.nihr.ac.uk/event/vivensa-foundation-2026-annual-symposium/
LOCATION:IET\, 2 Savoy Place\, London\, WC2R 0B\, United Kingdom
CATEGORIES:Symposium
ATTACH;FMTTYPE=image/png:https://www.dementiaresearcher.nihr.ac.uk/wp-content/uploads/2026/01/Vivensa-Foundation.png
GEO:51.5100099;-0.1192623
X-APPLE-STRUCTURED-LOCATION;VALUE=URI;X-ADDRESS=IET 2 Savoy Place London WC2R 0B United Kingdom;X-APPLE-RADIUS=500;X-TITLE=2 Savoy Place:geo:-0.1192623,51.5100099
END:VEVENT
END:VCALENDAR