BEGIN:VCALENDAR
VERSION:2.0
PRODID:-//DEMENTIA RESEARCHER - ECPv6.14.0//NONSGML v1.0//EN
CALSCALE:GREGORIAN
METHOD:PUBLISH
X-WR-CALNAME:DEMENTIA RESEARCHER
X-ORIGINAL-URL:https://www.dementiaresearcher.nihr.ac.uk
X-WR-CALDESC:Events for DEMENTIA RESEARCHER
REFRESH-INTERVAL;VALUE=DURATION:PT1H
X-Robots-Tag:noindex
X-PUBLISHED-TTL:PT1H
BEGIN:VTIMEZONE
TZID:Europe/London
BEGIN:DAYLIGHT
TZOFFSETFROM:+0000
TZOFFSETTO:+0100
TZNAME:BST
DTSTART:20260329T010000
END:DAYLIGHT
BEGIN:STANDARD
TZOFFSETFROM:+0100
TZOFFSETTO:+0000
TZNAME:GMT
DTSTART:20261025T010000
END:STANDARD
END:VTIMEZONE
BEGIN:VEVENT
DTSTART;TZID=Europe/London:20260415T120000
DTEND;TZID=Europe/London:20260415T124500
DTSTAMP:20260426T023332
CREATED:20260309T150636Z
LAST-MODIFIED:20260309T150636Z
UID:10002141-1776254400-1776257100@www.dementiaresearcher.nihr.ac.uk
SUMMARY:Research Showcase - Dementia & Employment Research Priorities
DESCRIPTION:What support do people living with dementia need to remain in work. How can employers\, policy makers\, researchers\, and carers work together to shape better employment support.\n\nThis livestream is part of the Dementia Researcher weekly Showcase series. Each week we host a 45 minute online session bringing researchers together to share their work\, methods\, and ideas. \nIn this session\, Dr Rachel Allen from the University of West of Scotland present current work from the Working with Dementia Network + project\, which explores dementia and employment across research\, policy\, and practice. The project has recently completed a series of Nominal Group Technique focus groups designed to identify priorities for future work in this area. \nThese groups brought together people living with a dementia diagnosis\, carers\, employers and managers\, professionals involved in policy\, and researchers. Rachel will discuss why this approach was used\, what participants identified as key priorities\, and how these findings will shape the next phase of the Network Plus programme. \nAttendees can expect a research focused session with time for questions and discussion. \n\nRegister
URL:https://www.dementiaresearcher.nihr.ac.uk/event/research-showcase-dementia-employment-research-priorities/
LOCATION:Dementia Researcher Communities App
CATEGORIES:Webinar
ATTACH;FMTTYPE=image/png:https://www.dementiaresearcher.nihr.ac.uk/wp-content/uploads/2026/03/Dementia-and-Employment-Research-Priorities-web.png
END:VEVENT
END:VCALENDAR