BEGIN:VCALENDAR
VERSION:2.0
PRODID:-//DEMENTIA RESEARCHER - ECPv6.14.0//NONSGML v1.0//EN
CALSCALE:GREGORIAN
METHOD:PUBLISH
X-WR-CALNAME:DEMENTIA RESEARCHER
X-ORIGINAL-URL:https://www.dementiaresearcher.nihr.ac.uk
X-WR-CALDESC:Events for DEMENTIA RESEARCHER
REFRESH-INTERVAL;VALUE=DURATION:PT1H
X-Robots-Tag:noindex
X-PUBLISHED-TTL:PT1H
BEGIN:VTIMEZONE
TZID:Europe/London
BEGIN:DAYLIGHT
TZOFFSETFROM:+0000
TZOFFSETTO:+0100
TZNAME:BST
DTSTART:20260329T010000
END:DAYLIGHT
BEGIN:STANDARD
TZOFFSETFROM:+0100
TZOFFSETTO:+0000
TZNAME:GMT
DTSTART:20261025T010000
END:STANDARD
END:VTIMEZONE
BEGIN:VEVENT
DTSTART;TZID=Europe/London:20260226T120000
DTEND;TZID=Europe/London:20260226T130000
DTSTAMP:20260425T224121
CREATED:20260219T130502Z
LAST-MODIFIED:20260219T132203Z
UID:10002118-1772107200-1772110800@www.dementiaresearcher.nihr.ac.uk
SUMMARY:Connecting Expertise Webinar Series: Cardiovascular Research
DESCRIPTION:Join us for the next ‘Connecting Expertise’ webinar\, chaired by Dr Emma Rees\, Swansea University\, to explore the latest developments in cardiovascular research. This session will highlight innovative approaches and collaboration opportunities\, featuring insights from the BHF Data Science Centre and the National Cardiovascular Research Network (NCRN). \nDate: Thursday 26th February 2026\nTime: 12:00–1:00 PM Online \nSpeakers: \n\nDr Jessica Farrow\, BHF Data Science Centre – providing a brief overview of the Centre.\nRoss Forsyth\, BHF Data Science Centre – discussing UK CliC.\nDr Zach Welshman\, BHF Data Science Centre – presenting data science tools and the resource generation plan for the SAIL Databank.\nDr Libby Ellins\, National Cardiovascular Research Network – introducing the NCRN and its work connecting researchers\, clinicians\, and partners across Wales.\n\n\nThe webinar will conclude with an open discussion on future joint projects and collaborations. \nRegister now if you are a scientist\, researcher\, or data expert working in\, or interested in\, cardiovascular health\, and connect with leading experts in the field. \nJoin the webinar here \n*We will send a reminder email to all registered attendees one day before the webinar with a link to join. \nPart of the HDR UK Wales “Connecting Expertise” quarterly webinar series – building networks for data-driven health.
URL:https://www.dementiaresearcher.nihr.ac.uk/event/connecting-expertise-webinar-series-cardiovascular-research/
LOCATION:Online\, United Kingdom
CATEGORIES:Workshop
ATTACH;FMTTYPE=image/png:https://www.dementiaresearcher.nihr.ac.uk/wp-content/uploads/2026/02/Connecting-Expertise-Webinar-Series-Cardiovascular-Research.png
END:VEVENT
END:VCALENDAR