BEGIN:VCALENDAR
VERSION:2.0
PRODID:-//DEMENTIA RESEARCHER - ECPv6.14.0//NONSGML v1.0//EN
CALSCALE:GREGORIAN
METHOD:PUBLISH
X-WR-CALNAME:DEMENTIA RESEARCHER
X-ORIGINAL-URL:https://www.dementiaresearcher.nihr.ac.uk
X-WR-CALDESC:Events for DEMENTIA RESEARCHER
REFRESH-INTERVAL;VALUE=DURATION:PT1H
X-Robots-Tag:noindex
X-PUBLISHED-TTL:PT1H
BEGIN:VTIMEZONE
TZID:Europe/London
BEGIN:DAYLIGHT
TZOFFSETFROM:+0000
TZOFFSETTO:+0100
TZNAME:BST
DTSTART:20260329T010000
END:DAYLIGHT
BEGIN:STANDARD
TZOFFSETFROM:+0100
TZOFFSETTO:+0000
TZNAME:GMT
DTSTART:20261025T010000
END:STANDARD
END:VTIMEZONE
BEGIN:VEVENT
DTSTART;TZID=Europe/London:20260305T093000
DTEND;TZID=Europe/London:20260305T113000
DTSTAMP:20260423T054101
CREATED:20260209T112012Z
LAST-MODIFIED:20260209T112043Z
UID:10002091-1772703000-1772710200@www.dementiaresearcher.nihr.ac.uk
SUMMARY:SPIN-D - Data for Brain Health and Dementia
DESCRIPTION:An online showcase introducing key datasets that can be used to study brain health\, dementia risk and early changes across the life course. \nThe event will highlight resources including PROTECT\, UCL Centre for Longitudinal Studies and the Data Atlas\, alongside real examples of how these data are being used in projects such as INFLAIM and by members of the DEMON network. \n\nThe session will also explore meaningful involvement of people with lived experience in data-driven research with Laura Gray. Designed for early-career researchers\, clinicians\, data scientists and others interested in dementia and brain health research.\n\nRegister to Attend\n\n\n\n\n\n\nSPIN Dementia Network Plus is a UK-wide research and engagement network focused on reducing the risk of dementia and improving the experience of living with the condition by supporting new projects\, fostering collaboration\, and involving people with lived experience\, researchers and care professionals. The network brings together diverse stakeholders to share knowledge\, drive innovation and promote community involvement in dementia research\, risk reduction and brain health awareness. It is one of four Dementia Network Plus initiatives jointly supported by the Alzheimer’s Society\, the Economic and Social Research Council and the NIHR. \nhttps://spindementianet.org/
URL:https://www.dementiaresearcher.nihr.ac.uk/event/spin-d-data-for-brain-health-and-dementia/
LOCATION:Dementia Researcher Communities App
CATEGORIES:Workshop
ATTACH;FMTTYPE=image/png:https://www.dementiaresearcher.nihr.ac.uk/wp-content/uploads/2025/01/SPIN-D-Network-.png
END:VEVENT
END:VCALENDAR