BEGIN:VCALENDAR
VERSION:2.0
PRODID:-//DEMENTIA RESEARCHER - ECPv6.14.0//NONSGML v1.0//EN
CALSCALE:GREGORIAN
METHOD:PUBLISH
X-WR-CALNAME:DEMENTIA RESEARCHER
X-ORIGINAL-URL:https://www.dementiaresearcher.nihr.ac.uk
X-WR-CALDESC:Events for DEMENTIA RESEARCHER
REFRESH-INTERVAL;VALUE=DURATION:PT1H
X-Robots-Tag:noindex
X-PUBLISHED-TTL:PT1H
BEGIN:VTIMEZONE
TZID:Europe/London
BEGIN:DAYLIGHT
TZOFFSETFROM:+0000
TZOFFSETTO:+0100
TZNAME:BST
DTSTART:20260329T010000
END:DAYLIGHT
BEGIN:STANDARD
TZOFFSETFROM:+0100
TZOFFSETTO:+0000
TZNAME:GMT
DTSTART:20261025T010000
END:STANDARD
END:VTIMEZONE
BEGIN:VEVENT
DTSTART;TZID=Europe/London:20260427T160000
DTEND;TZID=Europe/London:20260427T170000
DTSTAMP:20260422T220137
CREATED:20260323T223943Z
LAST-MODIFIED:20260323T223943Z
UID:10002159-1777305600-1777309200@www.dementiaresearcher.nihr.ac.uk
SUMMARY:Capturing Inflammaging with Omics
DESCRIPTION:ISTAART Design and Data Analytics PIA Webinar – Dr. Meir will illustrate how moving from traditional blood markers to single omics and integrated multi-omics approaches refines our understanding of inflammatory aging across biological scales and social contexts. \nModerator: Ana Capuano \nSpeaker: Anat Yaskolka Meir \n\nRegister\n 
URL:https://www.dementiaresearcher.nihr.ac.uk/event/capturing-inflammaging-with-omics/
LOCATION:Online\, United Kingdom
CATEGORIES:Workshop
ATTACH;FMTTYPE=image/png:https://www.dementiaresearcher.nihr.ac.uk/wp-content/uploads/2023/01/ISTAART-Logo.png
END:VEVENT
END:VCALENDAR