BEGIN:VCALENDAR
VERSION:2.0
PRODID:-//DEMENTIA RESEARCHER - ECPv6.14.0//NONSGML v1.0//EN
CALSCALE:GREGORIAN
METHOD:PUBLISH
X-WR-CALNAME:DEMENTIA RESEARCHER
X-ORIGINAL-URL:https://www.dementiaresearcher.nihr.ac.uk
X-WR-CALDESC:Events for DEMENTIA RESEARCHER
REFRESH-INTERVAL;VALUE=DURATION:PT1H
X-Robots-Tag:noindex
X-PUBLISHED-TTL:PT1H
BEGIN:VTIMEZONE
TZID:Europe/London
BEGIN:DAYLIGHT
TZOFFSETFROM:+0000
TZOFFSETTO:+0100
TZNAME:BST
DTSTART:20250330T010000
END:DAYLIGHT
BEGIN:STANDARD
TZOFFSETFROM:+0100
TZOFFSETTO:+0000
TZNAME:GMT
DTSTART:20251026T010000
END:STANDARD
END:VTIMEZONE
BEGIN:VEVENT
DTSTART;TZID=Europe/London:20250610T180000
DTEND;TZID=Europe/London:20250610T190000
DTSTAMP:20260421T182339
CREATED:20250421T101447Z
LAST-MODIFIED:20250421T101447Z
UID:10001739-1749578400-1749582000@www.dementiaresearcher.nihr.ac.uk
SUMMARY:Funding Opportunities in Low and Middle-Income Countries
DESCRIPTION:The ISTAART PIA to Elevate Early Career Researchers (PEERs) African Continent Group is pleased to invite you to our next webinar titled Funding Opportunities for Alzheimer’s Research in Low and Middle-Income Countries. \nDr Stefania Forner from the Alzheimer’s Association will address questions from researchers in low- and middle-income countries (LMIC)\, on making a research proposal competitive\, types of Alzheimer’s Association grants and mechanisms and how researchers can prove the feasibility of proposed projects. \nModerator: \n\nChukwuanugo Ogbuagu\, M.D.\, Ph.D.; Nnamdi Azikiwe University Teaching Hospital\, Nnewi\, Nigeria\n\nSpeaker: \n\nStefania Forner\, Ph.D.; Director\, Medical & Scientific Relations\, Alzheimer’s Association\, United States\n\nAll global researchers are welcome to attend this educational webinar. \nWebinars are recorded and will be available for on-demand viewing approximately two weeks after the live event. \n\nRegister to Attend
URL:https://www.dementiaresearcher.nihr.ac.uk/event/funding-opportunities-in-low-and-middle-income-countries/
LOCATION:Online\, United Kingdom
CATEGORIES:Workshop
ATTACH;FMTTYPE=image/png:https://www.dementiaresearcher.nihr.ac.uk/wp-content/uploads/2023/01/ISTAART-Logo.png
END:VEVENT
BEGIN:VEVENT
DTSTART;TZID=Europe/London:20250611T130000
DTEND;TZID=Europe/London:20250611T140000
DTSTAMP:20260421T182339
CREATED:20250325T161305Z
LAST-MODIFIED:20250325T161305Z
UID:10001719-1749646800-1749650400@www.dementiaresearcher.nihr.ac.uk
SUMMARY:Exploring lived experience with creative arts
DESCRIPTION:This spring the NIHR Applied Research Collaborations (ARCs) launch a new 2025 NIHR ARCs national #ARCseminar series. \nIn this series of three webinars\, they look at varied research exploring the power of creative arts to improve wellbeing and involvement in research of different communities. \n\nWednesday 7 May 2025 at 1pm: Improving mental health and wellbeing with creative arts\nWednesday 11 June 2025 at 1pm: Exploring lived experience with creative arts\nWednesday 9 July 2025 at 1pm: Creative arts for dementia\n\nFor more information and to book\, please see the Eventbrite Collection for the webinar series. \nAbout NIHR ARCs \nNIHR ARCs are the network of 15 NIHR Applied Research Collaborations (NIHR ARCs).  Funded by the National Institute for Health and Care Research (NIHR)\, they are a research service close to the beating heart of health and social care. ARCs support applied health and care research across the country. \nTo find your local ARC\, see the NIHR ARCs website join our monthly national newsletter and follow us on Bluesky @nihrarcs.bsky.social and on X @NIHRARCs. \nIf you could also share on social media that would be fab: \n\nNIHR Linkedin https://www.linkedin.com/posts/nihr-research_arcseminar-nihrarcs-activity-7306237776251809792-cpqt?utm_source=share&utm_medium=member_desktop&rcm=ACoAAAn7KsgBegOcNDlpzjKDF_2TlTHlEtt4ONs\n@NIHRARCs on X https://x.com/NIHRARCs/status/1899822077319798827\n@NIHRresearch on X https://x.com/NIHRresearch/status/1900170082723979383\n@nihrarcs.bsky.social Bluesky https://bsky.app/profile/nihrarcs.bsky.social/post/3lk6q2rl5uc2d
URL:https://www.dementiaresearcher.nihr.ac.uk/event/exploring-lived-experience-with-creative-arts/
LOCATION:Online\, United Kingdom
CATEGORIES:Workshop
ATTACH;FMTTYPE=image/png:https://www.dementiaresearcher.nihr.ac.uk/wp-content/uploads/2022/04/New-NIHR-Logo.png
END:VEVENT
END:VCALENDAR