BEGIN:VCALENDAR
VERSION:2.0
PRODID:-//DEMENTIA RESEARCHER - ECPv6.14.0//NONSGML v1.0//EN
CALSCALE:GREGORIAN
METHOD:PUBLISH
X-WR-CALNAME:DEMENTIA RESEARCHER
X-ORIGINAL-URL:https://www.dementiaresearcher.nihr.ac.uk
X-WR-CALDESC:Events for DEMENTIA RESEARCHER
REFRESH-INTERVAL;VALUE=DURATION:PT1H
X-Robots-Tag:noindex
X-PUBLISHED-TTL:PT1H
BEGIN:VTIMEZONE
TZID:Europe/London
BEGIN:DAYLIGHT
TZOFFSETFROM:+0000
TZOFFSETTO:+0100
TZNAME:BST
DTSTART:20260329T010000
END:DAYLIGHT
BEGIN:STANDARD
TZOFFSETFROM:+0100
TZOFFSETTO:+0000
TZNAME:GMT
DTSTART:20261025T010000
END:STANDARD
END:VTIMEZONE
BEGIN:VEVENT
DTSTART;VALUE=DATE:20260601
DTEND;VALUE=DATE:20260604
DTSTAMP:20260420T041627
CREATED:20260123T081935Z
LAST-MODIFIED:20260211T081914Z
UID:10002064-1780272000-1780531199@www.dementiaresearcher.nihr.ac.uk
SUMMARY:Australian Dementia Research Forum 2026
DESCRIPTION:The Australian Dementia Research Forum 2026 (ADRF2026)\, Australia’s leading event for advancing dementia research\, care\, and policy. Each year\, ADRF brings together researchers\, clinicians\, policy makers\, and lived-experience advocates to share the latest breakthroughs and best practices in dementia. \n\n\nThe theme for the ADRF2026 is Towards Healthy Brains for All: Precision\, Prevention and Participation with particular focus on exciting new innovations in the field. The Forum is a meeting place for national and global experts to share the latest developments in dementia research\, care and policy. The ADRF aims to challenge perceptions of living with or caring for someone with a dementia diagnosis. \n\n\n\n\n\nFind out More
URL:https://www.dementiaresearcher.nihr.ac.uk/event/australian-dementia-research-forum-2026/
LOCATION:Sydney Hyatt Regency Hotel\, 161 Sussex St\, Sydney\, New South Wales\, NSW 2000\, Australia
CATEGORIES:Conference
ATTACH;FMTTYPE=image/png:https://www.dementiaresearcher.nihr.ac.uk/wp-content/uploads/2024/12/Australian-Dementia-Research-Forum-2025.png
ORGANIZER;CN="Australian Dementia Network":MAILTO:adnet-info@unimelb.edu.au
GEO:-33.8697137;151.2035053
X-APPLE-STRUCTURED-LOCATION;VALUE=URI;X-ADDRESS=Sydney Hyatt Regency Hotel 161 Sussex St Sydney New South Wales NSW 2000 Australia;X-APPLE-RADIUS=500;X-TITLE=161 Sussex St:geo:151.2035053,-33.8697137
END:VEVENT
BEGIN:VEVENT
DTSTART;VALUE=DATE:20260601
DTEND;VALUE=DATE:20260604
DTSTAMP:20260420T041627
CREATED:20260331T091432Z
LAST-MODIFIED:20260331T091432Z
UID:10002172-1780272000-1780531199@www.dementiaresearcher.nihr.ac.uk
SUMMARY:Australian Dementia Research Forum
DESCRIPTION:The Australian Dementia Research Forum is the premier annual event that brings together researchers\, health professionals\, policy makers\, and people living with dementia and their families and carers\, providing a vital platform to exchange knowledge on the latest research\, innovations\, and best practices in dementia\, care and policy. \nWe are pleased to announce that ADRF2026 will be held as an in-person event in Sydney\, New South Wales\, Australia from 1 -3 June 2026. The event\, coinciding with Vivid Sydney\, will take place at the Hyatt Regency\, and delegates will therefore also be able to immerse themselves in the spectacle of this internationally renowned light show. \nThe theme for ADRF2026\, Towards Healthy Brains for All: Precision\, Prevention and Participation\, will highlight emerging innovations and advances across the field. The Forum is a meeting place for national and international experts to share exciting developments and discoveries\, foster collaboration\, and challenge perceptions of living with or caring for someone with a dementia diagnosis. \n\n\n\n\n\n\nThe program offers a balanced and comprehensive agenda featuring keynote presentations\, symposia\, panel discussions\, and the highly anticipated Great Debate. Participants will gain insights into significant discoveries and developments through an exceptional line-up of six international and Australian expert speakers\, invited to deliver keynote addresses at ADRF2026\, covering the areas of Discovery/Basic Science\, Diagnosis and Treatment\, Prevention\, Post-Diagnostic Care and Community Research. \n\n\n\n\n\n\n\n\n\n\n\n\nContinuing Education professional development sessions\, aimed at clinicians\, will be offered on the morning of Wednesday June 3. These sessions will cover topics including the use of new therapeutics and diagnostics\, allied health approaches and end-of-life care\, and are aimed at nursing\, allied health\, general practitioners and specialists (including advanced trainees). \nWe are also delighted to announce that\, for the second year running\, our dementia forum will feature a Community Lecture. Scheduled for Day 3\, this session is open to the wider community and will provide insights into brain health- health eating for brain health\, dementia prevention\, treatment and sleep for brain health. Further details\, including our special guest speaker\, will be announced shortly. \nRegister now to receive updates as ADRF2026 progresses. \nWe look forward to sharing our comprehensive program and outstanding line-up of speakers and welcoming you as we work together towards a future of improved understanding\, better treatments\, and enhanced quality of life for all those affected by dementia. \n\nRegister
URL:https://www.dementiaresearcher.nihr.ac.uk/event/australian-dementia-research-forum/
LOCATION:Sydney Hyatt Regency Hotel\, 161 Sussex St\, Sydney\, New South Wales\, NSW 2000\, Australia
CATEGORIES:Forum
ATTACH;FMTTYPE=image/png:https://www.dementiaresearcher.nihr.ac.uk/wp-content/uploads/2024/12/Australian-Dementia-Research-Forum-2025.png
ORGANIZER;CN="Australian Dementia Network":MAILTO:adnet-info@unimelb.edu.au
GEO:-33.8697137;151.2035053
X-APPLE-STRUCTURED-LOCATION;VALUE=URI;X-ADDRESS=Sydney Hyatt Regency Hotel 161 Sussex St Sydney New South Wales NSW 2000 Australia;X-APPLE-RADIUS=500;X-TITLE=161 Sussex St:geo:151.2035053,-33.8697137
END:VEVENT
BEGIN:VEVENT
DTSTART;TZID=Europe/London:20260601T130000
DTEND;TZID=Europe/London:20260601T140000
DTSTAMP:20260420T041627
CREATED:20260419T191941Z
LAST-MODIFIED:20260419T191941Z
UID:10002193-1780318800-1780322400@www.dementiaresearcher.nihr.ac.uk
SUMMARY:Compassionate and inclusive leadership
DESCRIPTION:Cultivate a nurturing environment by engaging and empowering others to flourish. \nPeople strong in ‘compassionate and inclusive leadership’ are energised by drawing on a diverse team for input and direction. By bringing the best version of themselves to the table\, they inspire and influence others to deliver\, whilst appreciating and leveraging differences. \nThey lead by example in promoting positive change in diversity and inclusion. \nBy attending this NIHR 60-min webinar\, you will: \n➡️ understand why compassionate leadership and inclusivity matters\, and what the evidence says about their impact in health and social care settings\n➡️ explore 4 practical habits for more inclusive\, everyday leadership\n➡️ reflect on assumptions\, triggers\, and behaviours\, and what you might need to unlearn\n➡️ reflect on your leadership and commit to 1 concrete action to take back to your team \nThis webinar is open to anyone working in or supporting health and care research via NIHR\, NHS\, UK universities and other publicly funded organisations. \n\nRegister
URL:https://www.dementiaresearcher.nihr.ac.uk/event/compassionate-and-inclusive-leadership/
LOCATION:Online\, United Kingdom
CATEGORIES:Training
ATTACH;FMTTYPE=image/png:https://www.dementiaresearcher.nihr.ac.uk/wp-content/uploads/2026/02/New-NIHR-Logo.png
END:VEVENT
BEGIN:VEVENT
DTSTART;TZID=Europe/London:20260603T090000
DTEND;TZID=Europe/London:20260603T173000
DTSTAMP:20260420T041627
CREATED:20260401T142717Z
LAST-MODIFIED:20260401T142717Z
UID:10002175-1780477200-1780507800@www.dementiaresearcher.nihr.ac.uk
SUMMARY:Dementia Masterclass
DESCRIPTION:Join the BNA Dementia Masterclass for an in-depth exploration of the latest advancements in dementia research. This session brings together a renowned panel of leading experts to share cutting-edge insights and diverse perspectives.  Engage in interactive discussion with speakers at the forefront of dementia research. \nFind out more \n 
URL:https://www.dementiaresearcher.nihr.ac.uk/event/dementia-masterclass/
LOCATION:Level39 Sandbox\, One Canada Square\, Canary Wharf\, London\, E14 5AB\, United Kingdom
CATEGORIES:Roadshow,Training
ATTACH;FMTTYPE=image/jpeg:https://www.dementiaresearcher.nihr.ac.uk/wp-content/uploads/2021/10/BNA-e1634733086131.jpg
GEO:51.5049489;-0.0195006
X-APPLE-STRUCTURED-LOCATION;VALUE=URI;X-ADDRESS=Level39 Sandbox One Canada Square Canary Wharf London E14 5AB United Kingdom;X-APPLE-RADIUS=500;X-TITLE=One Canada Square\, Canary Wharf:geo:-0.0195006,51.5049489
END:VEVENT
BEGIN:VEVENT
DTSTART;TZID=Europe/London:20260605T090000
DTEND;TZID=Europe/London:20260605T170000
DTSTAMP:20260420T041627
CREATED:20260127T161531Z
LAST-MODIFIED:20260127T161531Z
UID:10002073-1780650000-1780678800@www.dementiaresearcher.nihr.ac.uk
SUMMARY:Lewy Body UK 2026
DESCRIPTION:Lewy Body UK 2026: Get ready to join us for an in person to connect\, learn\, and support those affected by Lewy body Dementia. \nGet ready to join us in person gathering all about Lewy body dementia. This event is your chance to connect\, learn\, and share experiences with others who work in Lewy body demenetia research. Expect engaging talks\, experts in the field and plenty of opportunities to network. \nOrganised by Professor Rimona Weil (UCL) & Professor John-Paul Taylor (Newcastle University) \nProgramme coming soon \nSubmit your abstract for our Data Blitz sessions. Selected presentations will be fast-paced presentations for showcasing cutting-edge findings\, innovative methods\, and early-stage results. Submissions are particularly welcome from early career researchers. \nAbstract submission for Data Blitz presentations can be found here: \nLewy Body UK (5 June 2026) Data Blitz Application Form – Fill in form (please email lbddtn@newcastle.ac.uk if you encounter any issues with submitting) \nFull address: \nLecture theatre\, Lower Ground\, 33 Queen Square\, London\, WC1N 3BG \nMore on the Event
URL:https://www.dementiaresearcher.nihr.ac.uk/event/lewy-body-uk-2026/
LOCATION:33 Queens Square\, Basement Lecture Theatre. 33 Queens Square\, London\, Greater London\, WC1N 3BG\, United Kingdom
ATTACH;FMTTYPE=image/png:https://www.dementiaresearcher.nihr.ac.uk/wp-content/uploads/2026/01/Lewy-Body-UK-2025.png
GEO:51.522265;-0.1222335
X-APPLE-STRUCTURED-LOCATION;VALUE=URI;X-ADDRESS=33 Queens Square Basement Lecture Theatre. 33 Queens Square London Greater London WC1N 3BG United Kingdom;X-APPLE-RADIUS=500;X-TITLE=Basement Lecture Theatre. 33 Queens Square:geo:-0.1222335,51.522265
END:VEVENT
BEGIN:VEVENT
DTSTART;TZID=Europe/London:20260605T150000
DTEND;TZID=Europe/London:20260605T160000
DTSTAMP:20260420T041627
CREATED:20260415T142507Z
LAST-MODIFIED:20260415T142507Z
UID:10002189-1780671600-1780675200@www.dementiaresearcher.nihr.ac.uk
SUMMARY:ISTAART - Synth Tools for Highly Generalizable AI
DESCRIPTION:Join our the ISTAART Neuroimaging Professional Interest Area (PIA) for the new Neuroimaging Primer Series\, launching in June as an extension of the ISTAART’s The Basics webinars. \nThe Primer Series gives Neuroimaging PIA members a concise introduction to emerging methods — ranging from novel neuroimaging techniques to advanced image analysis and statistics.  Through this webinar series\, researchers will gain practical guidance and methodological tools to support more reproducible\, biologically meaningful AD research. \nSynth Tools for Highly Generalizable AI \nDiscover how our Synth tools generate high-quality segmentations and standardized MRI images across scanners and acquisitions. Learn practical workflows\, key considerations\, and how these tools support robust image analysis in Alzheimer’s disease. \nSpeaker: \n\nJuan Eugenio Iglesias\, Ph.D.; Massachusetts General Hospital & Harvard Medical School\, United States\n\nModerators: \n\nLudovica Griffanti\, Ph.D.; University of Oxford\, United Kingdom\nSamuel Lockhart\, Ph.D.; Perceptive Inc.\, United States\n\nSign up here and join us on Friday\, June 5\, 2026 at 9 a.m. C.T.
URL:https://www.dementiaresearcher.nihr.ac.uk/event/istaart-synth-tools-for-highly-generalizable-ai/
LOCATION:Online\, United Kingdom
CATEGORIES:Training
ATTACH;FMTTYPE=image/png:https://www.dementiaresearcher.nihr.ac.uk/wp-content/uploads/2023/01/ISTAART-Logo.png
END:VEVENT
BEGIN:VEVENT
DTSTART;TZID=Europe/London:20260613T093000
DTEND;TZID=Europe/London:20260613T153000
DTSTAMP:20260420T041627
CREATED:20260112T111707Z
LAST-MODIFIED:20260112T111707Z
UID:10002039-1781343000-1781364600@www.dementiaresearcher.nihr.ac.uk
SUMMARY:Women in Science Conference
DESCRIPTION:We’re delighted to be working with the Spires Science Curriculum Hub and OTSA to run the Women in Science Conference\, a day of inspiration for teachers and classroom technicians\, sharing the incredible stories\, insights and expertise of trailblazing women in STEM. \nThe day will include a keynote delivered by Ann Childs and Judith Hilliers from Oxford University Department of Educational Studies\, plus a wide range of practical\, hands-on workshops and a chance to connect\, collaborate and cultivate new ideas with a community of passionate educators and professionals. \nTo purchase tickets\, please follow the link. \nBuy Tickets
URL:https://www.dementiaresearcher.nihr.ac.uk/event/women-in-science-conference/
LOCATION:Rutherford Appleton laboratory\, Harwell Campus\, Didcot\, Oxfordshire\, OX11 0QX\, United Kingdom
CATEGORIES:Conference
ATTACH;FMTTYPE=image/png:https://www.dementiaresearcher.nihr.ac.uk/wp-content/uploads/2022/06/UK-Research-and-Innovation-UKRI-Logo.png
GEO:51.5776825;-1.306818
X-APPLE-STRUCTURED-LOCATION;VALUE=URI;X-ADDRESS=Rutherford Appleton laboratory Harwell Campus Didcot Oxfordshire OX11 0QX United Kingdom;X-APPLE-RADIUS=500;X-TITLE=Harwell Campus:geo:-1.306818,51.5776825
END:VEVENT
BEGIN:VEVENT
DTSTART;TZID=Europe/London:20260617T110000
DTEND;TZID=Europe/London:20260617T123000
DTSTAMP:20260420T041627
CREATED:20260327T121853Z
LAST-MODIFIED:20260327T121853Z
UID:10002170-1781694000-1781699400@www.dementiaresearcher.nihr.ac.uk
SUMMARY:Better conversations: getting to the root of communication
DESCRIPTION:Better conversations: getting to the root of communication – 17 June 2026\n\n\n\nTime: 11.00am – 12.30pm \nAim: To better understand communication for people living with MND and ways to support conversation. \nBy the end of this webinar\, participants will have: \n\na wider understanding of communication change in MND\nconsidered what is meant by conversation\nhad an introduction to how conversation works\nexplored the barriers and facilitators to conversation\nbeen introduced to the Better Conversations MND resource.\n\nSpeakers: Professor Steven Bloch\, MRSCLT and Sophie Stribbbling\, MRCSLT \nView speaker biographies \n\nRegister
URL:https://www.dementiaresearcher.nihr.ac.uk/event/better-conversations-getting-to-the-root-of-communication/
LOCATION:Online\, United Kingdom
CATEGORIES:Workshop
ATTACH;FMTTYPE=image/png:https://www.dementiaresearcher.nihr.ac.uk/wp-content/uploads/2026/01/MND-Association-Logo.png
ORGANIZER;CN="MND Association":MAILTO:fundraising@mndassociation.org
END:VEVENT
BEGIN:VEVENT
DTSTART;VALUE=DATE:20260618
DTEND;VALUE=DATE:20260620
DTSTAMP:20260420T041627
CREATED:20260305T131731Z
LAST-MODIFIED:20260305T131731Z
UID:10002133-1781740800-1781913599@www.dementiaresearcher.nihr.ac.uk
SUMMARY:Using Conditional Transgenic Models
DESCRIPTION:This course is designed for anyone working with conditional mouse models\, including the Cre-Lox system and alternative recombinase platforms such as Flp\, Dre\, and Vika. These technologies provide researchers with the ability to manipulate gene expression in a spatially and/or temporally controlled manner\, enabling precise investigation of biological processes that cannot be interrogated using traditional constitutive knockout models. \nBy allowing genes to be selectively turned on or off in specific tissues\, cell types\, or developmental stages\, conditional systems offer powerful means to dissect the roles of individual genes within complex physiological networks. Moreover\, combining multiple recombinase systems expands the experimental possibilities even further – for example\, enabling the controlled exchange of a wild type exon for a mutant variant at a defined point in time to model disease progression with exceptional precision. \nHowever\, the intricate mechanisms underlying conditional systems make them particularly vulnerable to errors and misinterpretation. \nWhile the biology behind these approaches is elegant\, in practice there are numerous pitfalls that can compromise experimental outcomes. Many of these issues are not immediately apparent from the literature on conditional models\, nor are they always obvious within an experiment unless you know what to look for. Consequently\, researchers may unknowingly draw inaccurate conclusions\, with errors that can propagate and compromise downstream studies. \nThis course aims to equip trainees with a clear understanding of how these models function biologically\, as well as the practical ways in which they can fail. We will cover how to anticipate and control for confounding effects\, how to troubleshoot unexpected results\, and how to proceed when a model does not behave as expected. \nWho is this for? \nAnyone who is using or planning to use conditional models\, that has previous knowledge of advanced mouse genetics\, including researchers\, PhD students and colony managers. \nAfter this course\, you will be able to: \n\nUnderstand the basic principles of conditional transgenesis\nUnderstand how cre expressing and floxed alleles are produced and the potential impact on the experimental outcome\nIdentify the advantages and challenges of these systems\nAnalyse recombinase (Cre) expression\nUnderstand how to establish colonies for conditional transgenesis and the importance of background strain within this\nPlan breeding schemes with consideration of control strategies and cohort numbers\n\n\nRegister
URL:https://www.dementiaresearcher.nihr.ac.uk/event/using-conditional-transgenic-models/
LOCATION:MRC Harwell\, Becquerel Avenue\, Harwell\, Didcot\, Oxfordshire\, OX11 0RD\, United Kingdom
CATEGORIES:Training
ATTACH;FMTTYPE=image/jpeg:https://www.dementiaresearcher.nihr.ac.uk/wp-content/uploads/2022/08/Mary-Lyon-at-MRC-e1660810171276.jpg
GEO:51.578249;-1.3136509
X-APPLE-STRUCTURED-LOCATION;VALUE=URI;X-ADDRESS=MRC Harwell Becquerel Avenue Harwell Didcot Oxfordshire OX11 0RD United Kingdom;X-APPLE-RADIUS=500;X-TITLE=Becquerel Avenue:geo:-1.3136509,51.578249
END:VEVENT
BEGIN:VEVENT
DTSTART;VALUE=DATE:20260621
DTEND;VALUE=DATE:20260624
DTSTAMP:20260420T041627
CREATED:20250918T092850Z
LAST-MODIFIED:20250918T092850Z
UID:10001928-1782000000-1782259199@www.dementiaresearcher.nihr.ac.uk
SUMMARY:Cell Symposia: Multifaceted mitochondria
DESCRIPTION:Mitochondria are metabolic and signaling hubs involved in multi-system processes spanning from cellular bioenergetics to organismal homeostasis. Their multifaceted functions put them at the center of research efforts to better understand cellular metabolism and communication and to develop novel therapeutic approaches for a broad range of processes including cardiometabolic disorders\, immune responses\, aging\, and cancer. \n\n\nThis symposium aims to reflect the variety in mitochondrial research\, providing engaging and forward-looking talks on mitochondrial bioenergetics and dynamics\, their mechanisms of homeostasis and stress signaling\, their function in intra- and inter-cellular communication\, and their role in metabolism\, disease\, and therapy. \nWe hope to bring together scientists working on these diverse topics to address the open questions of the field and advance the study of mitochondrial biology. \nThemes: \n\nMitochondrial biochemistry and bioenergetics\nMitochondria homeostasis and stress response\nMitochondrial dynamics and transfer\nMitochondrial communication\nMitochondria in metabolism\nMitochondria in inflammation and disease\n\nRegister\n\nAbstract submission deadline: February 13\, 2026 \nSubmit abstract here
URL:https://www.dementiaresearcher.nihr.ac.uk/event/cell-symposia-multifaceted-mitochondria/
LOCATION:Hilton Glasgow\, William Street\, Glasgow\, Glasgow City\, G3 8HT\, United Kingdom
CATEGORIES:Symposium
ATTACH;FMTTYPE=image/png:https://www.dementiaresearcher.nihr.ac.uk/wp-content/uploads/2025/09/Cell-Symposia-Event-2026.png
GEO:55.8614024;-4.2686546
X-APPLE-STRUCTURED-LOCATION;VALUE=URI;X-ADDRESS=Hilton Glasgow William Street Glasgow Glasgow City G3 8HT United Kingdom;X-APPLE-RADIUS=500;X-TITLE=William Street:geo:-4.2686546,55.8614024
END:VEVENT
BEGIN:VEVENT
DTSTART;TZID=Europe/London:20260622T160000
DTEND;TZID=Europe/London:20260622T170000
DTSTAMP:20260420T041627
CREATED:20260415T142807Z
LAST-MODIFIED:20260415T142807Z
UID:10002190-1782144000-1782147600@www.dementiaresearcher.nihr.ac.uk
SUMMARY:ISTAART - MRI Assessment of Myelin & Iron Change in AD
DESCRIPTION:Join our the ISTAART Neuroimaging Professional Interest Area (PIA) for the new Neuroimaging Primer Series\, launching in June as an extension of the ISTAART’s The Basics webinars. \nThis webinar covers the core concepts of Chi-separation MRI for assessing myelin and iron. We will explore real-world applications and provide a practical guide to using our toolbox to process your neuroimaging data. \nSpeaker: \n\nJongho Lee\, Ph.D.; Laboratory for Imaging Science and Technology (LIST)\, Seoul National University\, Republic of Korea\n\nModerators: \n\nMichael Ewers\, Ph.D.; Institute for Stroke and Dementia Research\, University Hospital\, Ludwig Maximilian University\, Munich\, Germany\nSamuel N. Lockhart\, Ph.D.; Perceptive Inc.\, United States\n\nSign up here and join us on Monday\, June 22\, 2026 at 10 a.m. C.T.
URL:https://www.dementiaresearcher.nihr.ac.uk/event/istaart-mri-assessment-of-myelin-iron-change-in-ad/
LOCATION:Online\, United Kingdom
CATEGORIES:Training
ATTACH;FMTTYPE=image/png:https://www.dementiaresearcher.nihr.ac.uk/wp-content/uploads/2023/01/ISTAART-Logo.png
END:VEVENT
BEGIN:VEVENT
DTSTART;VALUE=DATE:20260627
DTEND;VALUE=DATE:20260701
DTSTAMP:20260420T041627
CREATED:20260323T153453Z
LAST-MODIFIED:20260323T153453Z
UID:10002156-1782518400-1782863999@www.dementiaresearcher.nihr.ac.uk
SUMMARY:Neuroreceptor Mapping 2026
DESCRIPTION:We are delighted to invite you to Uppsala\, Sweden for the 15th Neuroreceptor Mapping Conference\, taking place June 27–30\, 2026. NRM has been a cornerstone meeting for the neuro-PET community since its first gathering in 1995\, bringing together researchers from around the world to share advances in molecular imaging of neuroreceptors. Following recent meetings in Boston\, London\, and Montreal\, we are excited to continue this tradition in Uppsala. Read more about our beautiful city here. \nNRM 2026 will offer a rich scientific program\, opportunities for meaningful exchange\, and a welcoming environment for both established and emerging researchers. We look forward to insightful discussions\, renewed collaborations\, and the chance to celebrate the progress of our field together. \nWe are especially pleased to host you during early summer—an ideal time to experience the unique atmosphere surrounding the Swedish Midsummer season. On behalf of the organizing committee\, we look forward to welcoming you to NRM 2026 and to an inspiring and memorable meeting! \n\nRegister
URL:https://www.dementiaresearcher.nihr.ac.uk/event/neuroreceptor-mapping-2026/
LOCATION:Uppsala Konsert & Kongress\, Vaksalagatan 1\, 753 31\, Uppsala\, Sweden
CATEGORIES:Conference
ATTACH;FMTTYPE=image/png:https://www.dementiaresearcher.nihr.ac.uk/wp-content/uploads/2026/03/Neuroreceptor-mapping-2026.png
GEO:59.8611137;17.6458306
X-APPLE-STRUCTURED-LOCATION;VALUE=URI;X-ADDRESS=Uppsala Konsert & Kongress Vaksalagatan 1 753 31 Uppsala Sweden;X-APPLE-RADIUS=500;X-TITLE=Vaksalagatan 1\, 753 31:geo:17.6458306,59.8611137
END:VEVENT
END:VCALENDAR