BEGIN:VCALENDAR
VERSION:2.0
PRODID:-//DEMENTIA RESEARCHER - ECPv6.14.0//NONSGML v1.0//EN
CALSCALE:GREGORIAN
METHOD:PUBLISH
X-WR-CALNAME:DEMENTIA RESEARCHER
X-ORIGINAL-URL:https://www.dementiaresearcher.nihr.ac.uk
X-WR-CALDESC:Events for DEMENTIA RESEARCHER
REFRESH-INTERVAL;VALUE=DURATION:PT1H
X-Robots-Tag:noindex
X-PUBLISHED-TTL:PT1H
BEGIN:VTIMEZONE
TZID:Europe/London
BEGIN:DAYLIGHT
TZOFFSETFROM:+0000
TZOFFSETTO:+0100
TZNAME:BST
DTSTART:20260329T010000
END:DAYLIGHT
BEGIN:STANDARD
TZOFFSETFROM:+0100
TZOFFSETTO:+0000
TZNAME:GMT
DTSTART:20261025T010000
END:STANDARD
END:VTIMEZONE
BEGIN:VEVENT
DTSTART;TZID=Europe/London:20260519T123000
DTEND;TZID=Europe/London:20260519T140000
DTSTAMP:20260422T125557
CREATED:20260415T141253Z
LAST-MODIFIED:20260415T141253Z
UID:10002188-1779193800-1779199200@www.dementiaresearcher.nihr.ac.uk
SUMMARY:Person-centred innovations in dementia
DESCRIPTION:“Person-centred innovations in dementia” Next AGENET free online Seminar! \nThis event will take place online on: 19th May 2026 at 12:30pm – 2:00pm.  \nThe event will be chaired by Dr Steven Owen\, Research Fellow\, Centre for Research in Public Health and Community Care (CRIPACC)\, in the School of Health\, Medicine & Life Sciences\, University of Hertfordshire. \nSpeakers include: \n\nAdam Thapar\, Age UK Hertfordshire\, and Dr Idil Hassan\, Public Health Hertfordshire County Council “Music in Herts Dementia Care: using the Power of Music to transform dementia care”  \nMina Aghaei Dual award PhD Candidate\, Western Sydney University\, MARCS Institute for Brain\, Behaviour and Development\, University of Hertfordshire\, CRIPACC\, in the School of Health\, Medicine and Life Sciences. “ Innovation in Dementia Care: Stakeholder Perspectives on AI‑Enhanced Assistive Technology “\nAndy Hall: Head of Impact and Evaluation\, CW+. “ Bringing participatory arts to hospital patients: the CW+ Arts for All programme“\n\n\nRegister
URL:https://www.dementiaresearcher.nihr.ac.uk/event/person-centred-innovations-in-dementia/
LOCATION:Online\, United Kingdom
CATEGORIES:Online
ATTACH;FMTTYPE=image/png:https://www.dementiaresearcher.nihr.ac.uk/wp-content/uploads/2026/04/AGENET-Logo.png
END:VEVENT
END:VCALENDAR