BEGIN:VCALENDAR
VERSION:2.0
PRODID:-//DEMENTIA RESEARCHER - ECPv6.14.0//NONSGML v1.0//EN
CALSCALE:GREGORIAN
METHOD:PUBLISH
X-WR-CALNAME:DEMENTIA RESEARCHER
X-ORIGINAL-URL:https://www.dementiaresearcher.nihr.ac.uk
X-WR-CALDESC:Events for DEMENTIA RESEARCHER
REFRESH-INTERVAL;VALUE=DURATION:PT1H
X-Robots-Tag:noindex
X-PUBLISHED-TTL:PT1H
BEGIN:VTIMEZONE
TZID:Europe/London
BEGIN:DAYLIGHT
TZOFFSETFROM:+0000
TZOFFSETTO:+0100
TZNAME:BST
DTSTART:20260329T010000
END:DAYLIGHT
BEGIN:STANDARD
TZOFFSETFROM:+0100
TZOFFSETTO:+0000
TZNAME:GMT
DTSTART:20261025T010000
END:STANDARD
END:VTIMEZONE
BEGIN:VEVENT
DTSTART;TZID=Europe/London:20260602T170000
DTEND;TZID=Europe/London:20260602T180000
DTSTAMP:20260424T080119
CREATED:20260422T224029Z
LAST-MODIFIED:20260422T224029Z
UID:10002201-1780419600-1780423200@www.dementiaresearcher.nihr.ac.uk
SUMMARY:Sleep\, Brain Health\, and Dementia Risk
DESCRIPTION:Join a collaborative webinar from the ISTAART Sleep and Circadian Rhythms and Vascular Cognitive Disorders Professional Interest Areas (PIA)\, exploring how sleep influences vascular brain health and dementia risk. \nThis session brings together leading researchers and clinicians to examine the links between sleep\, cerebrovascular disease\, and cognitive outcomes. Expect discussion of underlying mechanisms\, emerging interventions\, and what this means for both clinical practice and future research. \nWhether you work in research or healthcare\, this is a chance to hear current evidence\, share perspectives\, and connect across disciplines. \nDate and TimeTuesday 2 June 202611:00 a.m. Central Time \nSpeakersJulio Fernandez-Mendoza\, Pennsylvania State University College of MedicineRosa Sommer\, University of Toronto and Sunnybrook \nPanelistsOmonigho M. Bubu\, NYU Grossman School of MedicineAndrew Lim\, University of Toronto and Sunnybrook Health Sciences CentreAlberto R. Ramos\, University of Miami Health System \nModeratorsDestiny Berisha\, University of California IrvineSilvia Fossati\, Alzheimer’s Center at Temple University \n\nRegisterSign up to attend and be part of the conversation. \nDelivered by the Sleep and Circadian Rhythms and Vascular Cognitive Disorders PIAs.
URL:https://www.dementiaresearcher.nihr.ac.uk/event/sleep-brain-health-and-dementia-risk/
LOCATION:Online\, United Kingdom
CATEGORIES:Lecture
ATTACH;FMTTYPE=image/png:https://www.dementiaresearcher.nihr.ac.uk/wp-content/uploads/2023/01/ISTAART-Logo.png
END:VEVENT
END:VCALENDAR