BEGIN:VCALENDAR
VERSION:2.0
PRODID:-//DEMENTIA RESEARCHER - ECPv6.14.0//NONSGML v1.0//EN
CALSCALE:GREGORIAN
METHOD:PUBLISH
X-WR-CALNAME:DEMENTIA RESEARCHER
X-ORIGINAL-URL:https://www.dementiaresearcher.nihr.ac.uk
X-WR-CALDESC:Events for DEMENTIA RESEARCHER
REFRESH-INTERVAL;VALUE=DURATION:PT1H
X-Robots-Tag:noindex
X-PUBLISHED-TTL:PT1H
BEGIN:VTIMEZONE
TZID:Europe/London
BEGIN:DAYLIGHT
TZOFFSETFROM:+0000
TZOFFSETTO:+0100
TZNAME:BST
DTSTART:20260329T010000
END:DAYLIGHT
BEGIN:STANDARD
TZOFFSETFROM:+0100
TZOFFSETTO:+0000
TZNAME:GMT
DTSTART:20261025T010000
END:STANDARD
END:VTIMEZONE
BEGIN:VEVENT
DTSTART;TZID=Europe/London:20260616T120000
DTEND;TZID=Europe/London:20260616T130000
DTSTAMP:20260424T112303
CREATED:20260423T160716Z
LAST-MODIFIED:20260423T160716Z
UID:10002205-1781611200-1781614800@www.dementiaresearcher.nihr.ac.uk
SUMMARY:An Introduction to Alzheimer's Research UK Grants
DESCRIPTION:Navigate Alzheimer’s Research UK funding with clarity and confidence in this practical\, insight-led webinar for prospective applicants. \nIn this webinar\, hear from Seth Staley\, Senior Research Funding Manager\, and Eve Chapman\, Research Grants Manager\, as they provide an overview of our grants and share actionable tips to support your application. This is also a great opportunity to hear what’s new regarding funding at Alzheimer’s Research UK. \nIdeal for those planning an application this year or simply looking to better understand Alzheimer’s Research UK funding. \n\nRegister
URL:https://www.dementiaresearcher.nihr.ac.uk/event/an-introduction-to-alzheimers-research-uk-grants/
LOCATION:Online\, United Kingdom
CATEGORIES:Training
ATTACH;FMTTYPE=image/png:https://www.dementiaresearcher.nihr.ac.uk/wp-content/uploads/2023/02/ALZHEIMERS-RESEARCH-UK-Logo.png
END:VEVENT
BEGIN:VEVENT
DTSTART;TZID=Europe/London:20260617T110000
DTEND;TZID=Europe/London:20260617T123000
DTSTAMP:20260424T112303
CREATED:20260327T121853Z
LAST-MODIFIED:20260327T121853Z
UID:10002170-1781694000-1781699400@www.dementiaresearcher.nihr.ac.uk
SUMMARY:Better conversations: getting to the root of communication
DESCRIPTION:Better conversations: getting to the root of communication – 17 June 2026\n\n\n\nTime: 11.00am – 12.30pm \nAim: To better understand communication for people living with MND and ways to support conversation. \nBy the end of this webinar\, participants will have: \n\na wider understanding of communication change in MND\nconsidered what is meant by conversation\nhad an introduction to how conversation works\nexplored the barriers and facilitators to conversation\nbeen introduced to the Better Conversations MND resource.\n\nSpeakers: Professor Steven Bloch\, MRSCLT and Sophie Stribbbling\, MRCSLT \nView speaker biographies \n\nRegister
URL:https://www.dementiaresearcher.nihr.ac.uk/event/better-conversations-getting-to-the-root-of-communication/
LOCATION:Online\, United Kingdom
CATEGORIES:Workshop
ATTACH;FMTTYPE=image/png:https://www.dementiaresearcher.nihr.ac.uk/wp-content/uploads/2026/01/MND-Association-Logo.png
ORGANIZER;CN="MND Association":MAILTO:fundraising@mndassociation.org
END:VEVENT
BEGIN:VEVENT
DTSTART;VALUE=DATE:20260618
DTEND;VALUE=DATE:20260620
DTSTAMP:20260424T112303
CREATED:20260305T131731Z
LAST-MODIFIED:20260305T131731Z
UID:10002133-1781740800-1781913599@www.dementiaresearcher.nihr.ac.uk
SUMMARY:Using Conditional Transgenic Models
DESCRIPTION:This course is designed for anyone working with conditional mouse models\, including the Cre-Lox system and alternative recombinase platforms such as Flp\, Dre\, and Vika. These technologies provide researchers with the ability to manipulate gene expression in a spatially and/or temporally controlled manner\, enabling precise investigation of biological processes that cannot be interrogated using traditional constitutive knockout models. \nBy allowing genes to be selectively turned on or off in specific tissues\, cell types\, or developmental stages\, conditional systems offer powerful means to dissect the roles of individual genes within complex physiological networks. Moreover\, combining multiple recombinase systems expands the experimental possibilities even further – for example\, enabling the controlled exchange of a wild type exon for a mutant variant at a defined point in time to model disease progression with exceptional precision. \nHowever\, the intricate mechanisms underlying conditional systems make them particularly vulnerable to errors and misinterpretation. \nWhile the biology behind these approaches is elegant\, in practice there are numerous pitfalls that can compromise experimental outcomes. Many of these issues are not immediately apparent from the literature on conditional models\, nor are they always obvious within an experiment unless you know what to look for. Consequently\, researchers may unknowingly draw inaccurate conclusions\, with errors that can propagate and compromise downstream studies. \nThis course aims to equip trainees with a clear understanding of how these models function biologically\, as well as the practical ways in which they can fail. We will cover how to anticipate and control for confounding effects\, how to troubleshoot unexpected results\, and how to proceed when a model does not behave as expected. \nWho is this for? \nAnyone who is using or planning to use conditional models\, that has previous knowledge of advanced mouse genetics\, including researchers\, PhD students and colony managers. \nAfter this course\, you will be able to: \n\nUnderstand the basic principles of conditional transgenesis\nUnderstand how cre expressing and floxed alleles are produced and the potential impact on the experimental outcome\nIdentify the advantages and challenges of these systems\nAnalyse recombinase (Cre) expression\nUnderstand how to establish colonies for conditional transgenesis and the importance of background strain within this\nPlan breeding schemes with consideration of control strategies and cohort numbers\n\n\nRegister
URL:https://www.dementiaresearcher.nihr.ac.uk/event/using-conditional-transgenic-models/
LOCATION:MRC Harwell\, Becquerel Avenue\, Harwell\, Didcot\, Oxfordshire\, OX11 0RD\, United Kingdom
CATEGORIES:Training
ATTACH;FMTTYPE=image/jpeg:https://www.dementiaresearcher.nihr.ac.uk/wp-content/uploads/2022/08/Mary-Lyon-at-MRC-e1660810171276.jpg
GEO:51.578249;-1.3136509
X-APPLE-STRUCTURED-LOCATION;VALUE=URI;X-ADDRESS=MRC Harwell Becquerel Avenue Harwell Didcot Oxfordshire OX11 0RD United Kingdom;X-APPLE-RADIUS=500;X-TITLE=Becquerel Avenue:geo:-1.3136509,51.578249
END:VEVENT
BEGIN:VEVENT
DTSTART;VALUE=DATE:20260621
DTEND;VALUE=DATE:20260624
DTSTAMP:20260424T112303
CREATED:20250918T092850Z
LAST-MODIFIED:20250918T092850Z
UID:10001928-1782000000-1782259199@www.dementiaresearcher.nihr.ac.uk
SUMMARY:Cell Symposia: Multifaceted mitochondria
DESCRIPTION:Mitochondria are metabolic and signaling hubs involved in multi-system processes spanning from cellular bioenergetics to organismal homeostasis. Their multifaceted functions put them at the center of research efforts to better understand cellular metabolism and communication and to develop novel therapeutic approaches for a broad range of processes including cardiometabolic disorders\, immune responses\, aging\, and cancer. \n\n\nThis symposium aims to reflect the variety in mitochondrial research\, providing engaging and forward-looking talks on mitochondrial bioenergetics and dynamics\, their mechanisms of homeostasis and stress signaling\, their function in intra- and inter-cellular communication\, and their role in metabolism\, disease\, and therapy. \nWe hope to bring together scientists working on these diverse topics to address the open questions of the field and advance the study of mitochondrial biology. \nThemes: \n\nMitochondrial biochemistry and bioenergetics\nMitochondria homeostasis and stress response\nMitochondrial dynamics and transfer\nMitochondrial communication\nMitochondria in metabolism\nMitochondria in inflammation and disease\n\nRegister\n\nAbstract submission deadline: February 13\, 2026 \nSubmit abstract here
URL:https://www.dementiaresearcher.nihr.ac.uk/event/cell-symposia-multifaceted-mitochondria/
LOCATION:Hilton Glasgow\, William Street\, Glasgow\, Glasgow City\, G3 8HT\, United Kingdom
CATEGORIES:Symposium
ATTACH;FMTTYPE=image/png:https://www.dementiaresearcher.nihr.ac.uk/wp-content/uploads/2025/09/Cell-Symposia-Event-2026.png
GEO:55.8614024;-4.2686546
X-APPLE-STRUCTURED-LOCATION;VALUE=URI;X-ADDRESS=Hilton Glasgow William Street Glasgow Glasgow City G3 8HT United Kingdom;X-APPLE-RADIUS=500;X-TITLE=William Street:geo:-4.2686546,55.8614024
END:VEVENT
END:VCALENDAR