BEGIN:VCALENDAR
VERSION:2.0
PRODID:-//DEMENTIA RESEARCHER - ECPv6.14.0//NONSGML v1.0//EN
CALSCALE:GREGORIAN
METHOD:PUBLISH
X-WR-CALNAME:DEMENTIA RESEARCHER
X-ORIGINAL-URL:https://www.dementiaresearcher.nihr.ac.uk
X-WR-CALDESC:Events for DEMENTIA RESEARCHER
REFRESH-INTERVAL;VALUE=DURATION:PT1H
X-Robots-Tag:noindex
X-PUBLISHED-TTL:PT1H
BEGIN:VTIMEZONE
TZID:Europe/London
BEGIN:DAYLIGHT
TZOFFSETFROM:+0000
TZOFFSETTO:+0100
TZNAME:BST
DTSTART:20260329T010000
END:DAYLIGHT
BEGIN:STANDARD
TZOFFSETFROM:+0100
TZOFFSETTO:+0000
TZNAME:GMT
DTSTART:20261025T010000
END:STANDARD
END:VTIMEZONE
BEGIN:VEVENT
DTSTART;VALUE=DATE:20260505
DTEND;VALUE=DATE:20260506
DTSTAMP:20260421T021645
CREATED:20260302T104027Z
LAST-MODIFIED:20260302T104027Z
UID:10002125-1777939200-1778025599@www.dementiaresearcher.nihr.ac.uk
SUMMARY:How to be a Great Chief Investigator for Clinical Trials
DESCRIPTION:In 2024\, the Network ran a pilot of three ‘How to be a Good Chief Investigator’ workshops in collaboration with Leeds CTRU\, Nottingham CTU\, and the Centre for Trials Research in Cardiff. Over 100 delegates participated across the three sessions. \nThe feedback was overwhelmingly positive\, and further workshops were therefore scheduled across 2025 and 2026 under the new name ‘How to be a Great Chief Investigator for Clinical Trials.’ Plans are now underway for sessions in 2027 and 2028. \nBook your spot at the next workshop now. \nWho are these courses for?\nThese workshops are designed for both current and aspiring Chief Investigators of clinical trials\, with a clear goal: to equip you with the skills and knowledge necessary to excel in your research career. \nEach event features expert guidance from experienced CIs and other trialists\, interactive activities\, and a collaborative learning environment. \nFuture Events Timeline\n5 May 2026 – Nottingham (Registration Open) \n28 September 2026 – Birmingham \n\n\nDetails of the next course\nNottingham – 5 May 2026\n\n\nUniversity of Nottingham\, Institute of Mental Health\, Room AO7\nUniversity of Nottingham Innovation Park\, Jubilee Campus\, Triumph Road\, Nottingham NG72TU \n\n\n\nSpeakers: Prof. Eleanor Mitchell\, Prof. Alan Montgomery\, Trish Hepburn\, Bethany Gill\, Prof. Caroline Rick\, Chris Partlett\, Prof. Reuben Ogollah\, Prof. Alexia Karantana\, Prof. Jon Dorling \nPrevious How to be a Great Chief Investigator for Clinical Trials workshops have been awarded 5 external (category 1) CPD credits by the Federation of the Royal College of Physicians. An application is currently in progress for this event. \nAgenda Here\n\nBook your place here!\n\n\n\n\n\n\nFor further information about upcoming workshops\, please contact regctus@leeds.ac.uk or follow us on BlueSky and LinkedIn.
URL:https://www.dementiaresearcher.nihr.ac.uk/event/how-to-be-a-great-chief-investigator-for-clinical-trials/
LOCATION:University of Northampton\, Waterside Campus\, University Dr\, Northampton\, NN1 5PH\, United Kingdom
CATEGORIES:Training
ATTACH;FMTTYPE=image/png:https://www.dementiaresearcher.nihr.ac.uk/wp-content/uploads/2026/03/Nottingham-Clinical-Trials-Unit-Logo.png
GEO:52.2304823;-0.8869818
X-APPLE-STRUCTURED-LOCATION;VALUE=URI;X-ADDRESS=University of Northampton Waterside Campus University Dr Northampton NN1 5PH United Kingdom;X-APPLE-RADIUS=500;X-TITLE=Waterside Campus\, University Dr:geo:-0.8869818,52.2304823
END:VEVENT
END:VCALENDAR